BEGIN:VCALENDAR
VERSION:2.0
CALSCALE:GREGORIAN
PRODID:-//Diputació de Barcelona//DibaCMS//EN
BEGIN:VEVENT
UID:6587
DTSTAMP:20260421T122244
DTSTART:20260418T120000
DTEND:20260418T130000
SUMMARY:Visita especial al castell: Les Trobairitz
LOCATION:
METHOD:PUBLISH
X-WR-CALNAME:st.martisa@diba.cat
X-WR-TIMEZONE:Europe/Madrid
DESCRIPTION:
URI:https://www.santmartisarroca.cat/actualitat/agenda/6587-visita-especial-al-castell-les-trobairitz.html
CLASS:PUBLIC
END:VEVENT
END:VCALENDAR
