BEGIN:VCALENDAR
VERSION:2.0
CALSCALE:GREGORIAN
PRODID:-//Diputació de Barcelona//DibaCMS//EN
BEGIN:VEVENT
UID:6605
DTSTAMP:20260422T151004
DTSTART:20260426T083000
DTEND:20260426T133000
SUMMARY:Caminada de Tot Martinejant
LOCATION:
METHOD:PUBLISH
X-WR-CALNAME:st.martisa@diba.cat
X-WR-TIMEZONE:Europe/Madrid
DESCRIPTION:
URI:https://www.santmartisarroca.cat/actualitat/agenda/6605-caminada-de-tot-martinejant.html
CLASS:PUBLIC
END:VEVENT
END:VCALENDAR
