BEGIN:VCALENDAR
VERSION:2.0
CALSCALE:GREGORIAN
PRODID:-//Diputació de Barcelona//DibaCMS//EN
BEGIN:VEVENT
UID:6612
DTSTAMP:20260426T010824
DTSTART:20260503T090000
DTEND:20260503T200000
SUMMARY:Festa de la Santa Creu
LOCATION:
METHOD:PUBLISH
X-WR-CALNAME:st.martisa@diba.cat
X-WR-TIMEZONE:Europe/Madrid
DESCRIPTION:
URI:https://www.santmartisarroca.cat/actualitat/agenda/6612-festa-de-la-santa-creu.html
CLASS:PUBLIC
END:VEVENT
END:VCALENDAR
